BEGIN:VCALENDAR
VERSION:2.0
PRODID:-//Альянс клинических химиотерапевтов и микробиологов - ECPv4.6.21//NONSGML v1.0//EN
CALSCALE:GREGORIAN
METHOD:PUBLISH
X-WR-CALNAME:Альянс клинических химиотерапевтов и микробиологов
X-ORIGINAL-URL:https://antimicrob.net
X-WR-CALDESC:Events for Альянс клинических химиотерапевтов и микробиологов
BEGIN:VEVENT
DTSTART;TZID=UTC+3:20181030T093000
DTEND;TZID=UTC+3:20181030T170000
DTSTAMP:20260423T071827
CREATED:20180822T123608Z
LAST-MODIFIED:20210209T151520Z
UID:1290-1540891800-1540918800@antimicrob.net
SUMMARY:Научно-практическая конференция «Рациональное применение антимикробных средств в амбулаторной практике врачей»
DESCRIPTION:30 октября в городе Воронеж состоится научно-практическая конференция «Рациональное применение антимикробных средств в амбулаторной практике врачей»\, программа которой разработана «Альянсом клинических химиотерапевтов и микробиологов». \nДанное мероприятие входит в цикл конференций в рамках проекта «Рациональная антимикробная терапия»\, который проходит на территории РФ уже не первый год.\nВ рамках конференции освещается проблематика растущей антибиотикорезистентности\, основные закономерности и причины появления и распространения антибиотикорезистентных микроорганизмов\, а также рациональное применение антибиотиков при лечении инфекций в пульмонологии\, педиатрии\, оториноларингологии\, гастроэнтерологии и урологии. \nПриглашаем специалистов здравоохранения Воронежской области — терапевтов\, врачей общей практики\, педиатров\, пульмонологов\, оториноларингологов\, клинических фармакологов. \nВ целях повышения уровня знаний и профессиональной квалификации приглашаемых специалистов здравоохранения программа конференции заявлена в Координационный совет по развитию НМО Минздрава России на предмет соответствия установленным требованиям. \n
URL:https://antimicrob.net/event/npk301018/
LOCATION:ул. Кирова\, 6А\, Воронеж\, Российская Федерация
END:VEVENT
END:VCALENDAR