BEGIN:VCALENDAR
VERSION:2.0
PRODID:-//Альянс клинических химиотерапевтов и микробиологов - ECPv4.6.21//NONSGML v1.0//EN
CALSCALE:GREGORIAN
METHOD:PUBLISH
X-WR-CALNAME:Альянс клинических химиотерапевтов и микробиологов
X-ORIGINAL-URL:https://antimicrob.net
X-WR-CALDESC:Events for Альянс клинических химиотерапевтов и микробиологов
BEGIN:VEVENT
DTSTART;TZID=UTC+3:20191026T093000
DTEND;TZID=UTC+3:20191026T120000
DTSTAMP:20260425T003931
CREATED:20190729T102347Z
LAST-MODIFIED:20210208T111347Z
UID:4080-1572082200-1572091200@antimicrob.net
SUMMARY:Школа-семинар «Рациональное применение антимикробных средств при инфекционных заболеваниях нижних дыхательных путей»
DESCRIPTION:\n	\n		\n			Школа-семинар «Рациональное применение антимикробных средств при инфекционных заболеваниях нижних дыхательных путей» \n26 октября в городе Самара состоится школа-семинар «Рациональное применение антимикробных средств при инфекционных заболеваниях нижних дыхательных путей». Мероприятие входит в цикл школ по проекту «Рациональная антимикробная терапия». \nСлушатели познакомятся с современными представлениями о диагностике\, поэтапном ведении пациентов с заболеваниями бронхолегочной системы с учетом тяжести заболевания и наличия коморбидных заболеваний. На практических примерах врачи рассмотрят актуальные вопросы антибактериальной терапии острых и хронических заболеваний нижних дыхательных путей. \nПриглашаем принять участие специалистов здравоохранения Самарской области — терапевтов\, врачей общей практики\, педиатров\, пульмонологов\, клинических фармакологов. \nПрограмма конференции подана в Координационный совет по развитию НМО Минздрава России на предмет соответствия установленным требованиям. \nМесто проведения: Отель «Lotte»\, г. Самара\, ул. Самарская\, 110 \n\n		\n	\nПрограмма мероприятия\n
URL:https://antimicrob.net/event/shkola-seminar-racionalnoe-primene-52/
LOCATION:ул. Самарская\, 110\, Самара
CATEGORIES:Анонсы
END:VEVENT
END:VCALENDAR