BEGIN:VCALENDAR
VERSION:2.0
PRODID:-//Альянс клинических химиотерапевтов и микробиологов - ECPv4.6.21//NONSGML v1.0//EN
CALSCALE:GREGORIAN
METHOD:PUBLISH
X-WR-CALNAME:Альянс клинических химиотерапевтов и микробиологов
X-ORIGINAL-URL:https://antimicrob.net
X-WR-CALDESC:Events for Альянс клинических химиотерапевтов и микробиологов
BEGIN:VEVENT
DTSTART;TZID=UTC+3:20191017T153000
DTEND;TZID=UTC+3:20191017T190000
DTSTAMP:20260420T020802
CREATED:20190610T125042Z
LAST-MODIFIED:20210208T125756Z
UID:3694-1571326200-1571338800@antimicrob.net
SUMMARY:Второй цикл школ «Рациональное применение антимикробных средств в амбулаторной практике»
DESCRIPTION:\n	\n		\n			  \n  \n12 сентября стартует второй цикл школ «Рациональное применение антибиотиков в амбулаторной практике». Мероприятие входит в цикл школ по проекту «Рациональная антимикробная терапия». \nСлушатели познакомятся с современными представлениями о диагностике\, поэтапном ведении пациентов с заболеваниями бронхолегочной системы с учетом тяжести заболевания и наличия коморбидных заболеваний\, обсудят позиционирование\, преимущества и ограничения различных классов антибиотиков при лечении инфекций респираторного тракта\, мочевыводящих путей\, а также рассмотрят основные положения эрадикационной терапии Helicobacter Pylori. \nНа практических примерах врачи рассмотрят актуальные вопросы антибактериальной терапии острых и хронических заболеваний в амбулаторной практике. \nПрограмма конференции подана в Координационный совет по развитию НМО Минздрава России на предмет соответствия установленным требованиям. \n\n		\n	\nПрограмма15:30–16:00 Регистрация слушателей16:00–16:45 Эффективность и безопасность антибиотиков в амбулаторной практикед.м.н.\, профессор С. В. Яковлев16:45–17:30 Пневмония и бронхит: алгоритм диагностики и антибактериальной терапиид.м.н.\, профессор С. В. Яковлев17:30–18:00 Антибактериальная терапия инфекций верхних дыхательных путей для врача общей практикик.м.н.\, доцент М. П. Суворова18:00–18:30 Инфекции мочевыводящих путейд.м.н.\, профессор Т. С. Перепанова18:30–19:00 Основные положения эрадикационной терапии Нelicobacter Pyloriд.м.н.\, профессор А. А. Самсонов
URL:https://antimicrob.net/event/3674-2-2-2-2-2/
LOCATION:ул. Миллионная\, д. 6\, Москва
CATEGORIES:Анонсы
END:VEVENT
BEGIN:VEVENT
DTSTART;TZID=UTC+3:20191017T163000
DTEND;TZID=UTC+3:20191017T190000
DTSTAMP:20260420T020802
CREATED:20190712T153215Z
LAST-MODIFIED:20210208T124536Z
UID:3851-1571329800-1571338800@antimicrob.net
SUMMARY:Школа-семинар «Рациональное применение антимикробных средств при инфекционных заболеваниях нижних дыхательных путей»
DESCRIPTION:\n	\n		\n			Школа-семинар «Рациональное применение антимикробных средств при инфекционных заболеваниях нижних дыхательных путей» \n17 октября: 16:30–19:00 \n17 октября в Магнитогорске состоится школа-семинар «Рациональное применение антимикробных средств при инфекционных заболеваниях нижних дыхательных путей». Мероприятие входит в цикл школ по проекту «Рациональная антимикробная терапия». \nСлушатели познакомятся с современными представлениями о диагностике\, поэтапном ведении пациентов с заболеваниями бронхолегочной системы с учетом тяжести заболевания и наличия коморбидных заболеваний. \nНа практических примерах врачи рассмотрят актуальные вопросы антибактериальной терапии острых и хронических заболеваний нижних дыхательных путей. \nПриглашаем принять участие специалистов здравоохранения Челябинской области — терапевтов\, врачей общей практики\, педиатров\, пульмонологов\, клинических фармакологов. Программа конференции подана в Координационный совет по развитию НМО Минздрава России на предмет соответствия установленным требованиям. \nМесто проведения: БЦ «Форум»\, ул. Ленина\, 133 \n\n		\n	\nПрограмма мероприятия\n	\n		\n			Отчет о мероприятии\nМероприятие посетили 67 специалистов здравоохранения г. Магнитогорск и Челябинской области. Семинар аккредитован Координационным советом по развитию НМО Минздрава России\, и все слушатели получили Свидетельства установленного образца с 2 зачетными баллами за прослушанный курс. \n\n		\n	\n\n
URL:https://antimicrob.net/event/shkola-seminar-racionalnoe-primene-18/
LOCATION:ул. Ленина\, 133\, Магнитогорск
CATEGORIES:Анонсы
END:VEVENT
END:VCALENDAR