BEGIN:VCALENDAR
VERSION:2.0
PRODID:-//Альянс клинических химиотерапевтов и микробиологов - ECPv4.6.21//NONSGML v1.0//EN
CALSCALE:GREGORIAN
METHOD:PUBLISH
X-WR-CALNAME:Альянс клинических химиотерапевтов и микробиологов
X-ORIGINAL-URL:https://antimicrob.net
X-WR-CALDESC:Events for Альянс клинических химиотерапевтов и микробиологов
BEGIN:VEVENT
DTSTART;TZID=UTC+3:20210218T160000
DTEND;TZID=UTC+3:20210218T193000
DTSTAMP:20260421T125438
CREATED:20210129T162320Z
LAST-MODIFIED:20210220T113037Z
UID:5235-1613664000-1613676600@antimicrob.net
SUMMARY:Вебинар «Школа рациональной антибактериальной терапии. Фокус на практику врача»
DESCRIPTION:\n	\n		\n			Уважаемые коллеги! \nПриглашаем вас принять участие в вебинаре «Школа рациональной антибактериальной терапии. Фокус на практику врача». Мероприятие состоится 18 февраля 2021 года. \nВебинар посвящен проблемам этиотропной терапии инфекций\, которые часто встречаются в амбулаторной практике. В учебном материале фокусируется внимание на проблеме резистентности микроорганизмов к антибиотикам и на необходимости противодействовать дальнейшему распространению резистентности. В лекциях подчеркивается роль практикующих врачей в решении этой проблемы\, рассматриваются типичные ошибки этиотропной терапии\, приводятся клинические примеры и результаты исследований\, посвященных изучению чувствительности бактерий к антибиотикам в России и других странах. Учебный материал вебинара основан на действующих клинических рекомендациях. \n\n		\n	\nЗарегистрироватьсяПрограмма мероприятияОтчет о мероприятии\n
URL:https://antimicrob.net/event/vebinar-shkola-racionalnoy-antibak/
END:VEVENT
BEGIN:VEVENT
DTSTART;TZID=UTC+3:20210218T170000
DTEND;TZID=UTC+3:20210218T182000
DTSTAMP:20260421T125438
CREATED:20210111T103350Z
LAST-MODIFIED:20210220T121848Z
UID:5212-1613667600-1613672400@antimicrob.net
SUMMARY:Вебинар «СКАТ — стратегия рациональной антимикробной терапии и сдерживания антибиотикорезистентности»
DESCRIPTION:\n	\n		\n			Уважаемые коллеги! \nПриглашаем вас принять участие в вебинаре «СКАТ — стратегия рациональной антимикробной терапии и сдерживания антибиотикорезистентности». Он состоится 18 февраля 2021 года в 17:00. \nВебинар будет посвящен проблеме антибиотикорезистентности возбудителей инфекций и принципам решения этой проблемы в условиях стационара. Ключевое внимание будет уделено программе СКАТ (данная аббревиатура означает «Стратегия контроля антимикробной терапии»): ее содержанию и возможностям применения в больницах. На вебинаре будут представлены актуальные сведения о резистентности бактерий к наиболее часто используемым антибиотикам\, а также алгоритмы принятия решения по выбору этиотропных препаратов для эмпирической терапии и для лечения\, основанного на определении чувствительности микроорганизмов. В лекционном материале будут освещены вопросы междисциплинарного взаимодействия специалистов при ведении пациентов с внутрибольничными инфекциями\, будет подчеркнута роль клинического фармаколога и микробиолога в принятии терапевтических решений. Содержание лекций акцентирует внимание врачей на их роли в противодействии дальнейшему распространению антибиотикорезистентности\, в профилактике внутрибольничных инфекций и в рациональном выборе лекарственных средств для этиотропной терапии внутрибольничных инфекций. \n\n		\n	\n\n	\n		\n			Мероприятие пройдет при поддержке: \n\n		\n	\nПрограмма мероприятияРегистрация на мероприятиеОтчет о мероприятии\n
URL:https://antimicrob.net/event/vebinar-skat-strategiya-racionaln/
END:VEVENT
END:VCALENDAR