BEGIN:VCALENDAR
VERSION:2.0
PRODID:-//Альянс клинических химиотерапевтов и микробиологов - ECPv4.6.21//NONSGML v1.0//EN
CALSCALE:GREGORIAN
METHOD:PUBLISH
X-WR-CALNAME:Альянс клинических химиотерапевтов и микробиологов
X-ORIGINAL-URL:https://antimicrob.net
X-WR-CALDESC:Events for Альянс клинических химиотерапевтов и микробиологов
BEGIN:VEVENT
DTSTART;TZID=UTC+3:20240919T150000
DTEND;TZID=UTC+3:20240919T162000
DTSTAMP:20260425T170822
CREATED:20240822T081355Z
LAST-MODIFIED:20240822T081355Z
UID:7037-1726758000-1726762800@antimicrob.net
SUMMARY:Рациональная антимикробная терапия в эпоху антибиотикорезистентности: новые возможности
DESCRIPTION:\n	\n		\n			Мы рады пригласить Вас принять участие в вебинаре\, который пройдет 19 сентября 2024 года в онлайн формате. \nВ рамках которого будут затронуты актуальные вопросы в терапии инфекционных заболеваний: \n•     Диагностика и антимикробная терапия инфекций\, вызванных полирезистентными штаммами микроорганизмов \n•    Тактика и подходы к терапии инфекционных заболеваний \nВедущие эксперты д.м.н.\, профессор\, президент Альянса клинических химиотерапевтов и микробиологов\, профессор кафедры госпитальной терапии №2 1 МГМУ им. И. М. Сеченова (Сеченовский Университет)\, врач — клинический фармаколог ГКБ им. С. С. Юдина ДЗ Москвы Яковлев С.В. и главный врач стационара\, заведующий кафедрой\, доктор медицинских наук\, доцент\, руководитель Референс-центра Минздрава России Гусаров В.Г. поделятся своими знаниями и опытом\, освещая последние научные разработки и практические методики в лечении и профилактике инфекционных заболеваний. \nТематика конференции будет актуальна не только терапевтам\, но и анестезиологам\, фармакологам  и врачам общей практики стремящимся улучшить знания и повысить качество оказание медицинской помощи. \n\n		\n	\nПрограмма мероприятия\n
URL:https://antimicrob.net/event/racionalnaya-antimikrobnaya-terapiya/
END:VEVENT
END:VCALENDAR